BEGIN:VCALENDAR
VERSION:2.0
PRODID:-//ChamberMaster//Event Calendar 2.0//EN
METHOD:PUBLISH
X-PUBLISHED-TTL:P3D
REFRESH-INTERVAL:P3D
CALSCALE:GREGORIAN
BEGIN:VEVENT
DTSTART:20210806T200000Z
DTEND:20210807T000000Z
X-MICROSOFT-CDO-ALLDAYEVENT:FALSE
SUMMARY:2021 Cruise-In to Butler Township
DESCRIPTION:The 2021 Cruise-In to Butler Township hits the streets of the Miller Lane business district on Friday\, August 6th from 4:00pm - 8:00pm.  With LIVE music\, food trucks and the Moeller Brew Barn beer trailer\, you and all your car enthusiast friends will want to have this date marked on the calendar.  With the expectation of over 200 classic cars\, you'll walk through a sea of some of the finest vintage vehicles in the Miami Valley.\n\n\n\nHelp Us VOTE!  Awards will be presented for the Hottest Car (Fire Chiefs Award)\, Most Likely to Get a Ticket (Police Chiefs Award)\, Bragging Rights (Township Trustees Award) and Best Of Show (People's Choice Award)
X-ALT-DESC;FMTTYPE=text/html:<span style="font-size:16px\;">The 2021 Cruise-In to Butler Township hits the streets of the Miller Lane business district on Friday\, August 6th from 4:00pm - 8:00pm.&nbsp\; With LIVE music\, food trucks and the Moeller Brew Barn beer trailer\, you and all your car enthusiast friends will want to have this date marked on the calendar.&nbsp\; With the expectation of over 200 classic cars\, you&#39\;ll walk through a sea of some of the finest vintage vehicles in the Miami Valley.<br />\n<br />\nHelp Us VOTE!&nbsp\; Awards will be presented for the&nbsp\;<span style="color:#FF0000\;"><em><strong>Hottest Car</strong></em></span> (Fire Chiefs Award)\, <span style="color:#0000FF\;"><em><strong>Most Likely to Get a Ticket</strong></em></span> (Police Chiefs Award)\, <span style="color:#006400\;"><em><strong>Bragging Rights</strong></em></span> (Township Trustees Award) and <span style="color:#A52A2A\;"><em><strong>Best Of Show</strong></em></span> (People&#39\;s Choice Award)</span>
LOCATION:Commerce Center Drive and York Commons Boulevard
UID:e.3542.260
SEQUENCE:3
DTSTAMP:20260420T232941Z
URL:http://members.vandaliabutlerchamber.org/events/details/2021-cruise-in-to-butler-township-260
END:VEVENT

END:VCALENDAR
