BEGIN:VCALENDAR
VERSION:2.0
PRODID:-//ChamberMaster//Event Calendar 2.0//EN
METHOD:PUBLISH
X-PUBLISHED-TTL:P3D
REFRESH-INTERVAL:P3D
CALSCALE:GREGORIAN
BEGIN:VEVENT
DTSTART:20230627T210000Z
DTEND:20230628T010000Z
X-MICROSOFT-CDO-ALLDAYEVENT:FALSE
SUMMARY:2023 Food Rally at the Crossroads
DESCRIPTION:Click Here to download your Vendor Application for the 2023 Food Rally at the Crossroads \n\n\n\nThe northern Miami Valley's largest outdoor food and beverage tasting event.  Dozens of regional restaurants\, caterers\, and breweries offering samples of their best menu items.  A family fun event\, safe for all ages to enjoy! We look forward to seeing you there. \n\n\n\nShowcase your business by becoming a Sponsor for the 2023 Food Rally at the Crossroads!  Several levels of support available\, including packages that offer additional tickets to share with your customers\, friends\, family and employees.  Check out your options by Clicking Here
X-ALT-DESC;FMTTYPE=text/html:<strong><a href="https://chambermaster.blob.core.windows.net/userfiles/UserFiles/chambers/3542/File/2023RallyApplication.pdf">Click Here</a></strong>&nbsp\;to download your Vendor Application for the 2023 Food Rally at the Crossroads&nbsp\;<br />\n<br />\nThe northern Miami Valley&#39\;s largest outdoor food and beverage tasting event.&nbsp\; Dozens of regional restaurants\, caterers\, and breweries offering samples of their best menu items.&nbsp\; A family fun event\, safe for all ages to enjoy! We look forward to seeing you there.&nbsp\;<br />\n<br />\nShowcase your business by becoming a Sponsor for the 2023 Food Rally at the Crossroads!&nbsp\; Several levels of support available\, including packages that offer additional tickets to share with your customers\, friends\, family and employees.&nbsp\; Check out your options by <strong><a href="https://chambermaster.blob.core.windows.net/userfiles/UserFiles/chambers/3542/File/2023RallySponsorApplication1.pdf">Clicking Here</a></strong><br />\n&nbsp\;
LOCATION:Vandalia Sports Complex (Outdoors) 1111 Stonequarry Rd Dayton\, OH 45414
UID:e.3542.735
SEQUENCE:3
DTSTAMP:20260419T160323Z
URL:http://members.vandaliabutlerchamber.org/events/details/2023-food-rally-at-the-crossroads-735
END:VEVENT

END:VCALENDAR
