BEGIN:VCALENDAR
VERSION:2.0
PRODID:-//ChamberMaster//Event Calendar 2.0//EN
METHOD:PUBLISH
X-PUBLISHED-TTL:P3D
REFRESH-INTERVAL:P3D
CALSCALE:GREGORIAN
BEGIN:VEVENT
DTSTART:20210821T130000Z
DTEND:20210821T150000Z
X-MICROSOFT-CDO-ALLDAYEVENT:FALSE
SUMMARY:41 Hope 5k
DESCRIPTION:'41 Hope 5k' Blake LaForce Memorial Run / Walk
X-ALT-DESC;FMTTYPE=text/html:&#39\;41 Hope 5k&#39\; Blake LaForce Memorial Run / Walk
LOCATION:BUTLER Memorial Stadium start & finish & neighborhood behind & around BHS)
UID:e.3542.262
SEQUENCE:3
DTSTAMP:20260420T232316Z
URL:http://members.vandaliabutlerchamber.org/events/details/41-hope-5k-262
END:VEVENT

END:VCALENDAR
