BEGIN:VCALENDAR
VERSION:2.0
PRODID:-//ChamberMaster//Event Calendar 2.0//EN
METHOD:PUBLISH
X-PUBLISHED-TTL:P3D
REFRESH-INTERVAL:P3D
CALSCALE:GREGORIAN
BEGIN:VEVENT
DTSTART:20220402T140000Z
DTEND:20220402T180000Z
X-MICROSOFT-CDO-ALLDAYEVENT:FALSE
SUMMARY:Adopt-a-thon
DESCRIPTION:The Humane Society of Greater Dayton and MetroNet are partnering to host an Adopt-a-thon at the MetroNet store front.
X-ALT-DESC;FMTTYPE=text/html:<span style="color:#008000\;"><strong><span style="font-size:16px\;">The Humane Society of Greater Dayton and MetroNet are partnering to host an Adopt-a-thon at the MetroNet store front.</span></strong></span>
LOCATION:336 East National Road Vandalia\, OH 45377
UID:e.3542.564
SEQUENCE:3
DTSTAMP:20260420T114526Z
URL:http://members.vandaliabutlerchamber.org/events/details/adopt-a-thon-564
END:VEVENT

END:VCALENDAR
