BEGIN:VCALENDAR
VERSION:2.0
PRODID:-//ChamberMaster//Event Calendar 2.0//EN
METHOD:PUBLISH
X-PUBLISHED-TTL:P3D
REFRESH-INTERVAL:P3D
CALSCALE:GREGORIAN
BEGIN:VEVENT
DTSTART:20220729T230000Z
DTEND:20220730T013000Z
X-MICROSOFT-CDO-ALLDAYEVENT:FALSE
SUMMARY:Air Show Parade ...The Vandalia Butler Chamber of Commerce Air Show Parade\, presented by Premier Health
DESCRIPTION:Parade Application Click Here
X-ALT-DESC;FMTTYPE=text/html:<span style="font-size:22px\;"><strong><span style="color:#0000CD\;">Parade Application</span> <a href="https://chambermaster.blob.core.windows.net/userfiles/UserFiles/chambers/3542/File/2024ParadeRegistrationForm.pdf"><span style="color:#FF0000\;">Click Here</span></a></strong></span>
LOCATION:National Road & Dixie Drive Through the heart of downtown Vandalia
UID:e.3542.172
SEQUENCE:3
DTSTAMP:20260420T075503Z
URL:http://members.vandaliabutlerchamber.org/events/details/air-show-parade-the-vandalia-butler-chamber-of-commerce-air-show-parade-presented-by-premier-health-172
END:VEVENT

END:VCALENDAR
