BEGIN:VCALENDAR
VERSION:2.0
PRODID:-//ChamberMaster//Event Calendar 2.0//EN
METHOD:PUBLISH
X-PUBLISHED-TTL:P3D
REFRESH-INTERVAL:P3D
CALSCALE:GREGORIAN
BEGIN:VEVENT
DTSTART:20220823T120000Z
DTEND:20220823T190000Z
X-MICROSOFT-CDO-ALLDAYEVENT:FALSE
SUMMARY:Annual Golf Outing
DESCRIPTION:Dust off the clubs\, gather your team\, it is time for the Annual Vandalia Butler Chamber of Commerce Golf Scramble.\n\n\n\nJoin us the second Tuesday of August at Cassel Hills Golf Course for a day of fun\, networking and "work" from the comfort of the beautiful outdoors. Don't delay\, register today! This annual event will max out at 25 teams. We'll have all the regular extras with mulligans\, putting strings and a course filled with hole sponsors. You'll get to shoot the cannon\, drive for closest to the pin and other course exclusive activities.
X-ALT-DESC;FMTTYPE=text/html:Dust off the clubs\, gather your team\, it is time for the Annual Vandalia Butler Chamber of Commerce Golf Scramble.<br />\n<br />\nJoin us the second Tuesday of August at Cassel Hills Golf Course for a day of fun\, networking and &quot\;work&quot\; from the comfort of the beautiful outdoors. Don&#39\;t delay\, register today! This annual event will max out at 25 teams. We&#39\;ll have all the regular extras with mulligans\, putting strings and a course filled with hole sponsors. You&#39\;ll get to shoot the cannon\, drive for closest to the pin and other course exclusive activities.&nbsp\;
LOCATION:Cassel Hills Golf Course 201 Clubhouse Way Vandalia\, Ohio 45377
UID:e.3542.576
SEQUENCE:3
DTSTAMP:20260420T062501Z
URL:http://members.vandaliabutlerchamber.org/events/details/annual-golf-outing-576
END:VEVENT

END:VCALENDAR
