BEGIN:VCALENDAR
VERSION:2.0
PRODID:-//ChamberMaster//Event Calendar 2.0//EN
METHOD:PUBLISH
X-PUBLISHED-TTL:P3D
REFRESH-INTERVAL:P3D
CALSCALE:GREGORIAN
BEGIN:VEVENT
DTSTART:20220308T123000Z
DTEND:20220308T143000Z
X-MICROSOFT-CDO-ALLDAYEVENT:FALSE
SUMMARY:Annual Membership Meeting and State of the Community Address
DESCRIPTION:Vandalia Butler Chamber of Commerce Annual Membership Meeting and State of the Community Address
X-ALT-DESC;FMTTYPE=text/html:<span style="font-size:14px\;">Vandalia Butler Chamber of Commerce Annual Membership Meeting and State of the Community Address</span>
LOCATION:Scene 75 Banquet Center 6945 Poe Ave Dayton\, OH 45414
UID:e.3542.307
SEQUENCE:3
DTSTAMP:20260420T145857Z
URL:http://members.vandaliabutlerchamber.org/events/details/annual-membership-meeting-and-state-of-the-community-address-307
END:VEVENT

END:VCALENDAR
