BEGIN:VCALENDAR
VERSION:2.0
PRODID:-//ChamberMaster//Event Calendar 2.0//EN
METHOD:PUBLISH
X-PUBLISHED-TTL:P3D
REFRESH-INTERVAL:P3D
CALSCALE:GREGORIAN
BEGIN:VEVENT
DTSTART:20220119T220000Z
DTEND:20220119T233000Z
X-MICROSOFT-CDO-ALLDAYEVENT:FALSE
SUMMARY:Business After Hours
DESCRIPTION:The Vandalia Butler Chamber of Commerce welcomes all business professionals to participate in our Business After Hours networking.  Grow your pool of contacts\, build strong relationships\, learn about area businesses and Move Business FORWARD!\n\n\n\nBe sure to bring plenty of business cards!!!
X-ALT-DESC;FMTTYPE=text/html:<span style="font-size: 14px\;">The Vandalia Butler Chamber of Commerce welcomes all business professionals to participate in our Business After Hours networking.&nbsp\; Grow your pool of contacts\, build strong relationships\, learn about area businesses and <strong>Move Business <i>FORWARD!<br />\n<br />\n<span style="color:#4B0082\;"><span style="font-size:16px\;">Be sure to bring plenty of business cards!!!</span></span></i></strong></span>
LOCATION:Monroe Federal Savings 264 East National Road Vandalia\, OH 45377
UID:e.3542.254
SEQUENCE:3
DTSTAMP:20260420T160448Z
URL:http://members.vandaliabutlerchamber.org/events/details/buisness-after-hours-abbey-credit-union-01-05-2022-254
END:VEVENT

END:VCALENDAR
