BEGIN:VCALENDAR
VERSION:2.0
PRODID:-//ChamberMaster//Event Calendar 2.0//EN
METHOD:PUBLISH
X-PUBLISHED-TTL:P3D
REFRESH-INTERVAL:P3D
CALSCALE:GREGORIAN
BEGIN:VEVENT
DTSTART:20220505T210000Z
DTEND:20220505T223000Z
X-MICROSOFT-CDO-ALLDAYEVENT:FALSE
SUMMARY:Business After Hours
DESCRIPTION:It's a Cinco de Mayo Celebration!!!\n\n\n\nThe Vandalia Butler Chamber of Commerce welcomes all business professionals to participate in our Business After Hours networking.  Grow your pool of contacts\, build strong relationships\, learn about area businesses and Move Business FORWARD!\n\n\n\nBe sure to bring plenty of business cards!!!
X-ALT-DESC;FMTTYPE=text/html:<span style="font-size: 14px\;"><span style="color:#FF0000\;"><u><span style="font-size:16px\;"><strong>It&#39\;s a Cinco de Mayo Celebration!!!</strong></span></u></span><br />\n<br />\nThe Vandalia Butler Chamber of Commerce welcomes all business professionals to participate in our Business After Hours networking.&nbsp\; Grow your pool of contacts\, build strong relationships\, learn about area businesses and <strong>Move Business <i>FORWARD!<br />\n<br />\nBe sure to bring plenty of business cards!!!</i></strong></span>
LOCATION:Abbey Credit Union 800 Falls Creek Drive Vandalia\, OH 45377
UID:e.3542.258
SEQUENCE:3
DTSTAMP:20260420T120327Z
URL:http://members.vandaliabutlerchamber.org/events/details/buisness-after-hours-abbey-credit-union-05-05-2022-258
END:VEVENT

END:VCALENDAR
