BEGIN:VCALENDAR
VERSION:2.0
PRODID:-//ChamberMaster//Event Calendar 2.0//EN
METHOD:PUBLISH
X-PUBLISHED-TTL:P3D
REFRESH-INTERVAL:P3D
CALSCALE:GREGORIAN
BEGIN:VEVENT
DTSTART:20211109T220000Z
DTEND:20211109T233000Z
X-MICROSOFT-CDO-ALLDAYEVENT:FALSE
SUMMARY:Business After Hours
DESCRIPTION:The Vandalia Butler Chamber of Commerce welcomes all business professionals to participate in our Business After Hours networking.  Grow your pool of contacts\, build strong relationships\, learn about area businesses and Move Business FORWARD!\n\n\n\nBe sure to bring plenty of business cards!!!
X-ALT-DESC;FMTTYPE=text/html:<span style="font-size: 14px\;">The Vandalia Butler Chamber of Commerce welcomes all business professionals to participate in our Business After Hours networking.&nbsp\; Grow your pool of contacts\, build strong relationships\, learn about area businesses and <strong>Move Business <i>FORWARD!<br />\n<br />\nBe sure to bring plenty of business cards!!!</i></strong></span>
LOCATION:State Farm Insurance - Steven Reed Agency 525 Helke Road Vandalia\, OH 45377
UID:e.3542.252
SEQUENCE:3
DTSTAMP:20260420T185757Z
URL:http://members.vandaliabutlerchamber.org/events/details/buisness-after-hours-abbey-credit-union-11-05-2021-252
END:VEVENT

END:VCALENDAR
