BEGIN:VCALENDAR
VERSION:2.0
PRODID:-//ChamberMaster//Event Calendar 2.0//EN
METHOD:PUBLISH
X-PUBLISHED-TTL:P3D
REFRESH-INTERVAL:P3D
CALSCALE:GREGORIAN
BEGIN:VEVENT
DTSTART:20190918T210000Z
DTEND:20190918T223000Z
X-MICROSOFT-CDO-ALLDAYEVENT:FALSE
SUMMARY:Buisness After Hours - Abbey Credit Union
DESCRIPTION:Abbey Credit Union would like you and your employee to join us for our Business After Hours Margarita Night!
X-ALT-DESC;FMTTYPE=text/html:Abbey Credit Union would like you and your employee to join us for our Business After Hours Margarita Night!
LOCATION:Abbey Credit Union 800 Falls Creek Dr. Vandalia\, OH 45377
UID:e.3542.131
SEQUENCE:3
DTSTAMP:20260424T112800Z
URL:http://members.vandaliabutlerchamber.org/events/details/buisness-after-hours-abbey-credit-union-131
END:VEVENT

END:VCALENDAR
