BEGIN:VCALENDAR
VERSION:2.0
PRODID:-//ChamberMaster//Event Calendar 2.0//EN
METHOD:PUBLISH
X-PUBLISHED-TTL:P3D
REFRESH-INTERVAL:P3D
CALSCALE:GREGORIAN
BEGIN:VEVENT
DTSTART:20220908T210000Z
DTEND:20220908T223000Z
X-MICROSOFT-CDO-ALLDAYEVENT:FALSE
SUMMARY:Business After Hours
DESCRIPTION:It's Time for OKTOBERFEST!!!  Join us for a sneak peek into the 2022 festival grounds and sample a few of the food and beer selections available this weekend.\n\n\n\nThe Vandalia Butler Chamber of Commerce welcomes all business professionals to participate in our Business After Hours networking.  Grow your pool of contacts\, build strong relationships\, learn about area businesses and Move Business FORWARD!\n\n\n\nBe sure to bring plenty of business cards!!!
X-ALT-DESC;FMTTYPE=text/html:<span style="font-size: 14px\;">It&#39\;s Time for <span style="font-size:16px\;"><span style="color:#FF8C00\;"><strong>OKTOBERFEST!!!</strong></span></span>&nbsp\; Join us for a sneak peek into the 2022 festival grounds and sample a few of the food and beer selections available this weekend.<br />\n<br />\nThe Vandalia Butler Chamber of Commerce welcomes all business professionals to participate in our Business After Hours networking.&nbsp\; Grow your pool of contacts\, build strong relationships\, learn about area businesses and <strong>Move Business <i>FORWARD!<br />\n<br />\nBe sure to bring plenty of business cards!!!</i></strong></span>
LOCATION:Vandalia Sports Complex 1111 Stonequarry Road Vandalia\, OH 45377
UID:e.3542.311
SEQUENCE:3
DTSTAMP:20260420T045847Z
URL:http://members.vandaliabutlerchamber.org/events/details/business-after-hours-09-21-2022-311
END:VEVENT

END:VCALENDAR
