BEGIN:VCALENDAR
VERSION:2.0
PRODID:-//ChamberMaster//Event Calendar 2.0//EN
METHOD:PUBLISH
X-PUBLISHED-TTL:P3D
REFRESH-INTERVAL:P3D
CALSCALE:GREGORIAN
BEGIN:VEVENT
DTSTART:20191023T210000Z
DTEND:20191023T223000Z
X-MICROSOFT-CDO-ALLDAYEVENT:FALSE
SUMMARY:Business After Hours
DESCRIPTION:October Business After Hours
X-ALT-DESC;FMTTYPE=text/html:October Business After Hours&nbsp\;
LOCATION:Shelter Insurance Vandalia 19 Kenbrook Dr. Vandalia\, OH 45377
UID:e.3542.134
SEQUENCE:3
DTSTAMP:20260424T085150Z
URL:http://members.vandaliabutlerchamber.org/events/details/business-after-hours-134
END:VEVENT

END:VCALENDAR
