BEGIN:VCALENDAR
VERSION:2.0
PRODID:-//ChamberMaster//Event Calendar 2.0//EN
METHOD:PUBLISH
X-PUBLISHED-TTL:P3D
REFRESH-INTERVAL:P3D
CALSCALE:GREGORIAN
BEGIN:VEVENT
DTSTART:20191113T220000Z
DTEND:20191113T233000Z
X-MICROSOFT-CDO-ALLDAYEVENT:FALSE
SUMMARY:Business After Hours
DESCRIPTION:The Vandalia Butler Chamber of Commerce thanks SpeedPro Imaging for hosting our Business After Hours Event
X-ALT-DESC;FMTTYPE=text/html:The Vandalia Butler Chamber of Commerce thanks SpeedPro Imaging for hosting our Business After Hours Event&nbsp\;
LOCATION:779 Crossroads Ct. Vandalia\, OH 45377
UID:e.3542.140
SEQUENCE:3
DTSTAMP:20260424T083327Z
URL:http://members.vandaliabutlerchamber.org/events/details/business-after-hours-140
END:VEVENT

END:VCALENDAR
