BEGIN:VCALENDAR
VERSION:2.0
PRODID:-//ChamberMaster//Event Calendar 2.0//EN
METHOD:PUBLISH
X-PUBLISHED-TTL:P3D
REFRESH-INTERVAL:P3D
CALSCALE:GREGORIAN
BEGIN:VEVENT
DTSTART:20200116T220000Z
DTEND:20200116T233000Z
X-MICROSOFT-CDO-ALLDAYEVENT:FALSE
SUMMARY:Business After Hours
DESCRIPTION:First Business After Hours of 2020
X-ALT-DESC;FMTTYPE=text/html:First Business After Hours of 2020&nbsp\;
LOCATION:State Farm Insurance - Steve Reed 525 Helke Rd. Vandalia\, OH 45377
UID:e.3542.155
SEQUENCE:3
DTSTAMP:20260424T042403Z
URL:http://members.vandaliabutlerchamber.org/events/details/business-after-hours-155
END:VEVENT

END:VCALENDAR
