BEGIN:VCALENDAR
VERSION:2.0
PRODID:-//ChamberMaster//Event Calendar 2.0//EN
METHOD:PUBLISH
X-PUBLISHED-TTL:P3D
REFRESH-INTERVAL:P3D
CALSCALE:GREGORIAN
BEGIN:VEVENT
DTSTART:20230621T210000Z
DTEND:20230621T223000Z
X-MICROSOFT-CDO-ALLDAYEVENT:FALSE
SUMMARY:Business After Hours
DESCRIPTION:The Vandalia Butler Chamber of Commerce welcomes all business professionals to participate in our Business After Hours networking.  Grow your pool of contacts\, build strong relationships\, learn about area businesses and Move Business FORWARD!\n\n\n\nBe sure to bring plenty of business cards!!!
X-ALT-DESC;FMTTYPE=text/html:<span style="font-size: 14px\;">The Vandalia Butler Chamber of Commerce welcomes all business professionals to participate in our Business After Hours networking.&nbsp\; Grow your pool of contacts\, build strong relationships\, learn about area businesses and <strong>Move Business <i>FORWARD!<br />\n<br />\nBe sure to bring plenty of business cards!!!</i></strong></span>
LOCATION:Christine Magoteaux- Primerica Financial Services 8529 N. Dixie Dr Suite 325 Dayton\, OH 45414
UID:e.3542.736
SEQUENCE:3
DTSTAMP:20260419T172622Z
URL:http://members.vandaliabutlerchamber.org/events/details/business-after-hours-736
END:VEVENT

END:VCALENDAR
