BEGIN:VCALENDAR
VERSION:2.0
PRODID:-//ChamberMaster//Event Calendar 2.0//EN
METHOD:PUBLISH
X-PUBLISHED-TTL:P3D
REFRESH-INTERVAL:P3D
CALSCALE:GREGORIAN
BEGIN:VEVENT
DTSTART:20200910T210000Z
DTEND:20200910T223000Z
X-MICROSOFT-CDO-ALLDAYEVENT:FALSE
SUMMARY:Business After Hours - Canceled
DESCRIPTION:Our September Business After Hours has been CANCELED\, due to continued hurdles with coronavirus.
X-ALT-DESC;FMTTYPE=text/html:<span style="font-size:14px\;">Our September Business After Hours has been <span style="color:#FF0000\;"><strong>CANCELED</strong></span>\, due to continued hurdles with coronavirus.&nbsp\; &nbsp\; &nbsp\; &nbsp\; </span>&nbsp\;
LOCATION:
UID:e.3542.208
SEQUENCE:3
DTSTAMP:20260423T182912Z
URL:http://members.vandaliabutlerchamber.org/events/details/business-after-hours-canceled-09-10-2020-208
END:VEVENT

END:VCALENDAR
