BEGIN:VCALENDAR
VERSION:2.0
PRODID:-//ChamberMaster//Event Calendar 2.0//EN
METHOD:PUBLISH
X-PUBLISHED-TTL:P3D
REFRESH-INTERVAL:P3D
CALSCALE:GREGORIAN
BEGIN:VEVENT
DTSTART:20200505T210000Z
DTEND:20200505T223000Z
X-MICROSOFT-CDO-ALLDAYEVENT:FALSE
SUMMARY:Business After Hours / Cancelled until further notice
DESCRIPTION:Business After Hours - Cinco De Mayo
X-ALT-DESC;FMTTYPE=text/html:Business After Hours - Cinco De Mayo
LOCATION:Abbey Credit Union 800 Falls Creed Dr. Vandalia\, OH 45377
UID:e.3542.167
SEQUENCE:3
DTSTAMP:20260423T225427Z
URL:http://members.vandaliabutlerchamber.org/events/details/business-after-hours-cancelled-until-further-notice-05-05-2020-167
END:VEVENT

END:VCALENDAR
