BEGIN:VCALENDAR
VERSION:2.0
PRODID:-//ChamberMaster//Event Calendar 2.0//EN
METHOD:PUBLISH
X-PUBLISHED-TTL:P3D
REFRESH-INTERVAL:P3D
CALSCALE:GREGORIAN
BEGIN:VEVENT
DTSTART:20200318T210000Z
DTEND:20200318T223000Z
X-MICROSOFT-CDO-ALLDAYEVENT:FALSE
SUMMARY:Business After Hours / Cancelled until further notice
DESCRIPTION:
X-ALT-DESC;FMTTYPE=text/html:
LOCATION:Vandalia Butler Chamber of Commerce Office 544 W. National Rd. Vandalia\, OH 45377
UID:e.3542.161
SEQUENCE:3
DTSTAMP:20260424T012732Z
URL:http://members.vandaliabutlerchamber.org/events/details/business-after-hours-cancelled-until-further-notice-161
END:VEVENT

END:VCALENDAR
