BEGIN:VCALENDAR
VERSION:2.0
PRODID:-//ChamberMaster//Event Calendar 2.0//EN
METHOD:PUBLISH
X-PUBLISHED-TTL:P3D
REFRESH-INTERVAL:P3D
CALSCALE:GREGORIAN
BEGIN:VEVENT
DTSTART:20221103T150000Z
DTEND:20221103T170000Z
X-MICROSOFT-CDO-ALLDAYEVENT:FALSE
SUMMARY:Business Shred Day
DESCRIPTION:Join us at the Vandalia Butler Chamber of Commerce for our Annual Business Document Shredding event\, hosted by Day Air Credit Union and Crocs.  Documents my be loose\, bagged\, bundled or even brought in boxes\; (boxes will be returned).\n\n\n\n*Please remove all metal binding clips and straps from file folders before arriving.\n\n\n\n**We encourage you to use the West parking lot entrance and follow the signs for safety and flow through the area.
X-ALT-DESC;FMTTYPE=text/html:<span style="font-size:18px\;">Join us at the Vandalia Butler Chamber of Commerce for our Annual Business Document Shredding event\, hosted by Day Air Credit Union and Crocs.&nbsp\;&nbsp\;Documents my be loose\, bagged\, bundled or even brought in boxes\; (boxes will be returned).<br />\n<br />\n*Please remove all metal binding clips and straps from file folders before arriving.<br />\n<br />\n**We encourage you to use the West parking lot entrance and follow the signs for safety and flow through the area.</span>
LOCATION:Vandalia Butler Chamber of Commerce 544 West National Road Vandalia\, Ohio 45377
UID:e.3542.593
SEQUENCE:3
DTSTAMP:20260420T032901Z
URL:http://members.vandaliabutlerchamber.org/events/details/business-shred-day-593
END:VEVENT

END:VCALENDAR
