BEGIN:VCALENDAR
VERSION:2.0
PRODID:-//ChamberMaster//Event Calendar 2.0//EN
METHOD:PUBLISH
X-PUBLISHED-TTL:P3D
REFRESH-INTERVAL:P3D
CALSCALE:GREGORIAN
BEGIN:VEVENT
DTSTART;VALUE=DATE:20220214
DTEND;VALUE=DATE:20220215
TRANSP:TRANSPARENT
X-MICROSOFT-CDO-ALLDAYEVENT:TRUE
SUMMARY:Chamber Partner Sponsor Day
DESCRIPTION:2022 is a very important year for the Vandalia Butler Chamber of Commerce.\n\n\n\nToday\, we take time to show our love\, say Thank You and recognize our businesses that have partnered with us under the Chamber Partner Sponsor Program for 2022.\n\n\n\nVisit this date often to see the updated list of Business Champions who have said YES to supporting the educational and developmental programs of the Vandalia Butler business community.\n\n\n\nPartner Sponsors are visible at ALL VB Chamber events and membership is included with their support.
X-ALT-DESC;FMTTYPE=text/html:<span style="font-size:16px\;"><strong>2022</strong> is a very important year for the <span style="color:#4B0082\;"><strong>Vandalia Butler Chamber of Commerce</strong></span>.<br />\n<br />\nToday\, we take time to show our love\, say <span style="color:#FF0000\;"><strong>Thank You</strong></span> and recognize our businesses that have partnered with us under the Chamber Partner Sponsor Program for 2022.<br />\n<br />\nVisit this date often to see the updated list of Business Champions who have said <strong>YES</strong> to supporting the educational and developmental programs of the Vandalia Butler business community.<br />\n<br />\nPartner Sponsors are visible at ALL VB Chamber events and membership is included with their support.</span>
LOCATION:
UID:e.3542.303
SEQUENCE:3
DTSTAMP:20260420T145954Z
URL:http://members.vandaliabutlerchamber.org/events/details/chamber-partner-sponsor-day-303
END:VEVENT

END:VCALENDAR
