BEGIN:VCALENDAR
VERSION:2.0
PRODID:-//ChamberMaster//Event Calendar 2.0//EN
METHOD:PUBLISH
X-PUBLISHED-TTL:P3D
REFRESH-INTERVAL:P3D
CALSCALE:GREGORIAN
BEGIN:VEVENT
DTSTART;VALUE=DATE:20210516
DTEND;VALUE=DATE:20210523
TRANSP:TRANSPARENT
X-MICROSOFT-CDO-ALLDAYEVENT:TRUE
SUMMARY:Clean-Up Week
DESCRIPTION:Vandalia is in need of a Spring Cleaning\, and we're looking for\n\npeople to help!  It's important that our town look it's best\, and if you've driven some of our busier streets over the past several weeks\, you know there is room for improvement.  That's why we've informally designated\n\nthe week of May 16 - 22 as Community Cleanup Week. This is a\n\nweek for all Vandalians to grab a trash bag and help pick up some of\n\nthe litter that's cluttering our roadways and neighborhoods.\n\n\n\nPlease consider pitching in to help!\n\n\n\nIf you'd like to help\, use this link https://forms.gle/39DLmqDBWdw4GyJ37\n\nor the QR Code displayed in our flier to access a Google form.\n\n\n\nConsider what part of Vandalia you'd like to see cleaned up. From there you and your friends can sign up to handle a street or area of town to be cleaned sometime through the week. When your trash bag is full\, you may throw it in your home Rumpke trash tote\, or we've arranged for a dumpster to be available to the public throughout the week. It will be located\n\nat the Cassel Hills Golf Course maintenance garage. The golf maintenance garage area can be accessed by turning right at the stop sign just before the entrance to the Cassel Hills Golf Course.
X-ALT-DESC;FMTTYPE=text/html:<span style="font-size:14px\;">Vandalia is in need of a Spring Cleaning\, and we&rsquo\;re looking for<br />\npeople to help!&nbsp\; It&rsquo\;s important that our town look it&rsquo\;s best\, and if you&rsquo\;ve driven some of our busier streets&nbsp\;over the past several weeks\, you know there is room for improvement.&nbsp\; That&rsquo\;s why we&#39\;ve informally designated<br />\nthe week of May 16 - 22 as <strong>Community Cleanup Week</strong>. This is a<br />\nweek for all Vandalians to grab a trash bag and help pick up some of<br />\nthe litter that&rsquo\;s cluttering our roadways and neighborhoods.<br />\n<br />\nPlease consider pitching in to help!<br />\n<br />\nIf you&rsquo\;d like to help\, use this link <span style="color:#0000FF\;">https://forms.gle/39DLmqDBWdw4GyJ37</span><br />\nor the QR Code displayed in our flier to access a Google form.<br />\n<br />\nConsider what part of Vandalia you&rsquo\;d like to see cleaned up. From there you and your&nbsp\;friends can sign up to handle a street or area of town to be cleaned sometime through the&nbsp\;week.&nbsp\;When your trash bag is full\, you may throw it in your home Rumpke trash tote\, or we&rsquo\;ve&nbsp\;arranged for a dumpster to be available to the public throughout the week. It will be located<br />\nat the Cassel Hills Golf Course maintenance garage. The golf maintenance garage area can&nbsp\;be accessed by turning right at the stop sign just before the entrance to the Cassel Hills Golf&nbsp\;Course.</span><br />\n&nbsp\;
LOCATION:
UID:e.3542.259
SEQUENCE:3
DTSTAMP:20260421T041039Z
URL:http://members.vandaliabutlerchamber.org/events/details/clean-up-week-259
END:VEVENT

END:VCALENDAR
