BEGIN:VCALENDAR
VERSION:2.0
PRODID:-//ChamberMaster//Event Calendar 2.0//EN
METHOD:PUBLISH
X-PUBLISHED-TTL:P3D
REFRESH-INTERVAL:P3D
CALSCALE:GREGORIAN
BEGIN:VEVENT
DTSTART:20191112T210000Z
DTEND:20191113T000000Z
X-MICROSOFT-CDO-ALLDAYEVENT:FALSE
SUMMARY:Courtyard - Ribbon Cutting & Open House
DESCRIPTION:The Courtyard by Marriott\, Dayton North on Miller Lane has recently renovated their facility. The Courtyard invites the community to celebrate with a ribbon-cutting event followed by an open house.
X-ALT-DESC;FMTTYPE=text/html:The Courtyard by Marriott\, Dayton North on Miller Lane has recently renovated their facility. The Courtyard invites the community to celebrate with a ribbon-cutting event followed by an open house.&nbsp\;
LOCATION:The Courtyard by Marriott - Dayton North 7887 Miller Lane Dayton\, OH 45414
UID:e.3542.143
SEQUENCE:3
DTSTAMP:20260424T071041Z
URL:http://members.vandaliabutlerchamber.org/events/details/courtyard-ribbon-cutting-open-house-143
END:VEVENT

END:VCALENDAR
