BEGIN:VCALENDAR
VERSION:2.0
PRODID:-//ChamberMaster//Event Calendar 2.0//EN
METHOD:PUBLISH
X-PUBLISHED-TTL:P3D
REFRESH-INTERVAL:P3D
CALSCALE:GREGORIAN
BEGIN:VEVENT
DTSTART:20201028T200000Z
DTEND:20201028T230000Z
X-MICROSOFT-CDO-ALLDAYEVENT:FALSE
SUMMARY:Crossroads Spooktacular
DESCRIPTION:Our inaugural event - The 2020 Crossroads Spooktacular - will take you on a tour of Vandalia and Butler Township while you trick-or-treat\, search for clues and engage with area businesses.  \n\n\n\nThe Crossroads Spooktacular is a FREE\, safe\, socially distant fun activity in which Ghouls and Goblins of any age can participate. It's fun for the entire family\, a group of friends and/or a gathering of co-workers!\n\n	Travel and stay safe\, while in your own vehicle\, as you hunt across Vandalia and Butler Township.\n	Gather up treats from multiple area businesses.\n	A completed\, and turned in\, Scavenger Hunt card makes your team eligible to win GREAT door prizes donated by our participating businesses.\n	ALL DOOR PRIZES WILL BE DRAWN ON FRIDAY\, OCTOBER 30 at 10:00am - join us on Facebook LIVE to see who wins!!! Vandalia Butler Chamber of Commerce \n\n *Expected completion time of the Scavenger Hunt is 90 minutes.
X-ALT-DESC;FMTTYPE=text/html:<span style="font-size:16px\;">Our inaugural event - <u><span style="font-size:18px\;"><span style="color:#FF0000\;"><strong>The 2020 Crossroads Spooktacular</strong></span></span></u> - will take you on a tour of Vandalia and Butler Township while you trick-or-treat\, search for clues and engage with area businesses.&nbsp\;&nbsp\;<br />\n<br />\nThe Crossroads Spooktacular is a <u><strong>FREE\,</strong></u><strong>&nbsp\;</strong>safe\, socially distant fun activity in which Ghouls and Goblins of any age can participate. It&#39\;s fun for the entire family\, a group of friends and/or a gathering of co-workers!</span>\n<ul>\n	<li><span style="font-size:16px\;">Travel and stay safe\, while in your own vehicle\, as you hunt across Vandalia and Butler Township.</span></li>\n	<li><span style="font-size:16px\;">Gather up treats from multiple area businesses.</span></li>\n	<li><span style="font-size:16px\;">A completed\, and turned in\, Scavenger Hunt card makes your team eligible to win GREAT door prizes donated by our participating businesses.</span></li>\n	<li><span style="font-size:16px\;">ALL DOOR PRIZES WILL BE DRAWN ON FRIDAY\, OCTOBER 30 at 10:00am - join us on Facebook LIVE to see who wins!!!&nbsp\;<span style="color:#4B0082\;"><em><strong>Vandalia Butler Chamber of Commerce</strong></em>&nbsp\;</span></span></li>\n</ul>\n<span style="font-size:16px\;"> <span style="color:#4B0082\;"><em>*Expected completion time of the Scavenger Hunt is 90 minutes.</em></span></span>
LOCATION:Your quest begins at the Vandalia Butler Chamber of Commerce\, 544 West National Road\, Vandalia
UID:e.3542.230
SEQUENCE:3
DTSTAMP:20260423T154528Z
URL:http://members.vandaliabutlerchamber.org/events/details/crossroads-spooktacular-230
END:VEVENT

END:VCALENDAR
