BEGIN:VCALENDAR
VERSION:2.0
PRODID:-//ChamberMaster//Event Calendar 2.0//EN
METHOD:PUBLISH
X-PUBLISHED-TTL:P3D
REFRESH-INTERVAL:P3D
CALSCALE:GREGORIAN
BEGIN:VEVENT
DTSTART:20200507T220000Z
DTEND:20200508T020000Z
X-MICROSOFT-CDO-ALLDAYEVENT:FALSE
SUMMARY:Dayton Dragons Chamber Night/ Cancelled until further notice
DESCRIPTION:
X-ALT-DESC;FMTTYPE=text/html:
LOCATION:Fifth Third Field 220 North Patterson Blvd. Dayton\, OH 45402
UID:e.3542.194
SEQUENCE:3
DTSTAMP:20260423T225319Z
URL:http://members.vandaliabutlerchamber.org/events/details/dayton-dragons-chamber-night-cancelled-until-further-notice-194
END:VEVENT

END:VCALENDAR
