BEGIN:VCALENDAR
VERSION:2.0
PRODID:-//ChamberMaster//Event Calendar 2.0//EN
METHOD:PUBLISH
X-PUBLISHED-TTL:P3D
REFRESH-INTERVAL:P3D
CALSCALE:GREGORIAN
BEGIN:VEVENT
DTSTART:20190928T230000Z
DTEND:20190929T020000Z
X-MICROSOFT-CDO-ALLDAYEVENT:FALSE
SUMMARY:Discover the Wonder - Brad Brown Magic
DESCRIPTION:Dayton Tornado Relief Benefit Show - Featuring Christian Magician Brad Brown
X-ALT-DESC;FMTTYPE=text/html:Dayton Tornado Relief Benefit Show - Featuring Christian Magician Brad Brown
LOCATION:Butler High School Performing Arts Theatre 600 South Dixie Dr Vandalia\, OH 45377
UID:e.3542.132
SEQUENCE:3
DTSTAMP:20260424T095605Z
URL:http://members.vandaliabutlerchamber.org/events/details/discover-the-wonder-brad-brown-magic-132
END:VEVENT

END:VCALENDAR
