BEGIN:VCALENDAR
VERSION:2.0
PRODID:-//ChamberMaster//Event Calendar 2.0//EN
METHOD:PUBLISH
X-PUBLISHED-TTL:P3D
REFRESH-INTERVAL:P3D
CALSCALE:GREGORIAN
BEGIN:VEVENT
DTSTART:20210930T160000Z
DTEND:20210930T190000Z
X-MICROSOFT-CDO-ALLDAYEVENT:FALSE
SUMMARY:Employment Fair
DESCRIPTION:Vandalia Butler Chamber of Commerce Employment Fair
X-ALT-DESC;FMTTYPE=text/html:Vandalia Butler Chamber of Commerce Employment Fair
LOCATION:Butler High School - Student Activity Center 600 South Dixie Drive Vandalia\, OH 45377
UID:e.3542.276
SEQUENCE:3
DTSTAMP:20260420T214940Z
URL:http://members.vandaliabutlerchamber.org/events/details/employment-fair-276
END:VEVENT

END:VCALENDAR
