BEGIN:VCALENDAR
VERSION:2.0
PRODID:-//ChamberMaster//Event Calendar 2.0//EN
METHOD:PUBLISH
X-PUBLISHED-TTL:P3D
REFRESH-INTERVAL:P3D
CALSCALE:GREGORIAN
BEGIN:VEVENT
DTSTART:20210108T130000Z
DTEND:20210108T140000Z
X-MICROSOFT-CDO-ALLDAYEVENT:FALSE
SUMMARY:First Friday Coffee
DESCRIPTION:Join us for our First Friday Coffee.  You'll experience great coffee and breakfast sandwiches from Vandalia's local coffee house - Warehouse 4 Coffee. Lot's of room\, great connections\; facial coverings required!\n\n\n\nMissed a few coffee's? Have never attended? One of our regulars? Everyone is welcome! We encourage you to bring a guest or two and don't forget your business cards for growing your network.\n\n\n\nWorking together to make 2021 the best year for doing business in Vandalia and Butler Township!!!
X-ALT-DESC;FMTTYPE=text/html:<span style="font-size:14px\;">Join us for our First Friday Coffee.&nbsp\; You&#39\;ll experience great coffee and breakfast sandwiches from Vandalia&#39\;s local coffee house -&nbsp\;Warehouse 4 Coffee. Lot&#39\;s of room\, great connections\; facial coverings required!<br />\n<br />\nMissed a few coffee&#39\;s? Have never attended? One of our regulars? Everyone is welcome! We encourage you to bring a guest or two&nbsp\;and&nbsp\;<u><strong>don&#39\;t forget your business cards</strong></u>&nbsp\;for growing your&nbsp\;network.<br />\n<br />\nWorking together to make 2021 the best year for doing&nbsp\;business in Vandalia and Butler Township!!!</span>
LOCATION:Medicare Planning of Dayton 7030 Poe Avenue Dayton\, OH 45414
UID:e.3542.19
SEQUENCE:3
DTSTAMP:20260423T105323Z
URL:http://members.vandaliabutlerchamber.org/events/details/first-friday-coffee-01-01-2021-19
END:VEVENT

END:VCALENDAR
