BEGIN:VCALENDAR
VERSION:2.0
PRODID:-//ChamberMaster//Event Calendar 2.0//EN
METHOD:PUBLISH
X-PUBLISHED-TTL:P3D
REFRESH-INTERVAL:P3D
CALSCALE:GREGORIAN
BEGIN:VEVENT
DTSTART:20210205T130000Z
DTEND:20210205T140000Z
X-MICROSOFT-CDO-ALLDAYEVENT:FALSE
SUMMARY:First Friday Coffee
DESCRIPTION:Join us for our First Friday Coffee's in the Community Room of the Vandalia Justice Center (245 James Bohanan Drive - Vandalia)..You'll experience great coffee and breakfast sandwiches from Vandalia's local coffee house - Warehouse 4 Coffee. Lot's of room and great connections.\n\n\n\nMissed a few coffee's? Have never attended? One of our regulars? Everyone is welcome! We encourage you to bring a guest or two and don't forget your business cards for growing your network.\n\n\n\nWe're working together to make 2021 the best year for doing business in Vandalia and Butler Township!!!
X-ALT-DESC;FMTTYPE=text/html:Join us for our First Friday Coffee&#39\;s in the Community Room of the Vandalia Justice Center (245 James Bohanan Drive - Vandalia)..You&#39\;ll experience great coffee and breakfast sandwiches from Vandalia&#39\;s local coffee house -&nbsp\;Warehouse 4 Coffee. Lot&#39\;s of room and great connections.<br />\n<br />\nMissed a few coffee&#39\;s? Have never attended? One of our regulars? Everyone is welcome! We encourage you to bring a guest or two&nbsp\;and&nbsp\;<u><strong>don&#39\;t forget your business cards</strong></u>&nbsp\;for growing your&nbsp\;network.<br />\n<br />\nWe&#39\;re&nbsp\;working together to make 2021 the best year for doing&nbsp\;business in Vandalia and Butler Township!!!
LOCATION:Community Room - Vandalia Justice Center 245 James Bohanan Drive Vandalia\, OH 45377
UID:e.3542.20
SEQUENCE:3
DTSTAMP:20260423T091048Z
URL:http://members.vandaliabutlerchamber.org/events/details/first-friday-coffee-02-05-2021-20
END:VEVENT

END:VCALENDAR
