BEGIN:VCALENDAR
VERSION:2.0
PRODID:-//ChamberMaster//Event Calendar 2.0//EN
METHOD:PUBLISH
X-PUBLISHED-TTL:P3D
REFRESH-INTERVAL:P3D
CALSCALE:GREGORIAN
BEGIN:VEVENT
DTSTART:20210402T120000Z
DTEND:20210402T130000Z
X-MICROSOFT-CDO-ALLDAYEVENT:FALSE
SUMMARY:First Friday Coffee
DESCRIPTION:First Friday Coffees are FREE networking events for ALL individuals in business\; local or regional. In the month of April\, you will find us in the Community Room of the Vandalia Justice Center. Join us in a relaxed\, casual atmosphere and enjoy some great coffee and breakfast sandwiches from Vandalia's local coffee house - Warehouse 4 Coffee\; we've even been known to supply a few freshly made Jim's Donuts from time-to-time! \n\n\n\nThe meeting space at the Justice Center offers plenty of room for social distancing while allowing you to build great connections.  We do ask that you wear a facial covering until the state and county health departments release/remove the currently COIVD health parameters.\n\n\n\nMissed a few coffee's? Have never attended? One of our regulars? Everyone is welcome! We encourage you to bring a guest or two and don't forget your business cards for growing your network.\n\n\n\n*Virtual attendance is welcome!  Contact the VB Chamber Office for login details
X-ALT-DESC;FMTTYPE=text/html:<span style="font-size:16px\;">First Friday Coffees are&nbsp\;<span style="color:#FF0000\;"><u><strong>FREE</strong></u></span> networking events for ALL individuals in business\; local or regional. In the month of April\, you will find us in the Community Room of the Vandalia Justice Center. Join us in a relaxed\, casual atmosphere and enjoy some great coffee and breakfast sandwiches from Vandalia&#39\;s local coffee house -&nbsp\;Warehouse 4 Coffee\; we&#39\;ve even been known to supply a few freshly made Jim&#39\;s Donuts from time-to-time!&nbsp\;<br />\n<br />\nThe meeting space at the Justice Center offers plenty of room for social distancing while allowing you to build great connections.&nbsp\; We do ask that you wear a facial covering until the state and county health departments release/remove the currently COIVD health parameters.<br />\n<br />\nMissed a few coffee&#39\;s? Have never attended? One of our regulars? Everyone is welcome! We encourage you to bring a guest or two&nbsp\;and&nbsp\;<u><strong>don&#39\;t forget your business cards</strong></u>&nbsp\;for growing your&nbsp\;network.<br />\n<br />\n<em>*Virtual attendance is welcome!&nbsp\; Contact the VB Chamber Office for login details</em></span>
LOCATION:Vandalia Justice Center 245 James Bohanan Drive Vandalia\, OH 45377
UID:e.3542.22
SEQUENCE:3
DTSTAMP:20260421T054029Z
URL:http://members.vandaliabutlerchamber.org/events/details/first-friday-coffee-04-02-2021-22
END:VEVENT

END:VCALENDAR
