BEGIN:VCALENDAR
VERSION:2.0
PRODID:-//ChamberMaster//Event Calendar 2.0//EN
METHOD:PUBLISH
X-PUBLISHED-TTL:P3D
REFRESH-INTERVAL:P3D
CALSCALE:GREGORIAN
BEGIN:VEVENT
DTSTART:20200605T120000Z
DTEND:20200605T130000Z
X-MICROSOFT-CDO-ALLDAYEVENT:FALSE
SUMMARY:First Friday Coffee
DESCRIPTION:Join us via Zoom on June 5\, 2020 beginning at 8:00am for our First Friday Coffee.  While the COVID-19 pandemic continues to hinder our regular\, in person networking\, Zoom offers us an opportunity to engage in meaningful conversation and share information about our individual industries.  So grab your coffee or beverage of choice and your favorite breakfast items and let's get networking!\n\n\n\nEveryone is welcome! We're here to help everyone grow their network.\n\n\n\nMeeting ID: 833 8689 2684\n\nPassword: 586821\n\n\n\nWorking together to Move Business FORWARD!!!
X-ALT-DESC;FMTTYPE=text/html:Join us via Zoom on June 5\, 2020 beginning at 8:00am for our First Friday Coffee.&nbsp\; While the COVID-19 pandemic continues to hinder our regular\, in person networking\, Zoom offers us an opportunity to engage in meaningful conversation and share information about our individual industries.&nbsp\; So grab your coffee or beverage of choice and your favorite breakfast items and let&#39\;s get networking!<br />\n<br />\nEveryone is welcome! We&#39\;re here to help everyone&nbsp\;grow their network.<br />\n<br />\nMeeting ID: <strong>833 8689 2684</strong><br />\nPassword: <strong>586821</strong><br />\n<br />\nWorking together to <strong>Move Business <em>FORWARD</em></strong>!!!\n<div class="z-form-row" style="box-sizing: border-box\; padding: 24px 30px 4px\; border-bottom: 1px solid rgb(238\, 239\, 242)\; position: relative\; margin: 0px -20px\; color: rgb(35\, 35\, 51)\; font-family: Lato\, Helvetica\, Arial\; font-size: 14px\; background-color: rgb(255\, 255\, 255)\;">\n<div class="form-group" style="box-sizing: border-box\; margin-bottom: 15px\; margin-right: -15px\; margin-left: -15px\;">&nbsp\;</div>\n</div>\n
LOCATION:
UID:e.3542.12
SEQUENCE:3
DTSTAMP:20260423T224506Z
URL:http://members.vandaliabutlerchamber.org/events/details/first-friday-coffee-06-05-2020-12
END:VEVENT

END:VCALENDAR
