BEGIN:VCALENDAR
VERSION:2.0
PRODID:-//ChamberMaster//Event Calendar 2.0//EN
METHOD:PUBLISH
X-PUBLISHED-TTL:P3D
REFRESH-INTERVAL:P3D
CALSCALE:GREGORIAN
BEGIN:VEVENT
DTSTART:20210903T120000Z
DTEND:20210903T130000Z
X-MICROSOFT-CDO-ALLDAYEVENT:FALSE
SUMMARY:First Friday Coffee
DESCRIPTION:Join us for our First Friday Coffee in the Community Room of the Vandalia Justice Center.  You'll experience great coffee and breakfast sandwiches from Vandalia's local coffee house - Warehouse 4 Coffee. Lot's of room and great connections.\n\n\n\nMissed a few coffee's? Have never attended? One of our regulars?  Everyone is welcome!  We encourage you to bring a guest or two and don't forget your business cards for growing your network.
X-ALT-DESC;FMTTYPE=text/html:Join us for our First Friday Coffee in the Community Room of the <strong>Vandalia Justice Center.&nbsp\;&nbsp\;</strong>You&#39\;ll experience great coffee and breakfast sandwiches from Vandalia&#39\;s local coffee house -&nbsp\;Warehouse 4 Coffee. Lot&#39\;s of room and great connections.<br />\n<br />\nMissed a few coffee&#39\;s? Have never attended? One of our regulars?&nbsp\; <strong>Everyone is welcome!</strong>&nbsp\; We encourage you to bring a guest or two&nbsp\;and&nbsp\;<u><strong>don&#39\;t forget your business cards</strong></u>&nbsp\;for growing your&nbsp\;network.
LOCATION:Vandalia Justice Center - Community Room 245 James Bohanan Memorial Drive Vandalia\, OH 45377
UID:e.3542.27
SEQUENCE:3
DTSTAMP:20260420T214931Z
URL:http://members.vandaliabutlerchamber.org/events/details/first-friday-coffee-09-03-2021-27
END:VEVENT

END:VCALENDAR
