BEGIN:VCALENDAR
VERSION:2.0
PRODID:-//ChamberMaster//Event Calendar 2.0//EN
METHOD:PUBLISH
X-PUBLISHED-TTL:P3D
REFRESH-INTERVAL:P3D
CALSCALE:GREGORIAN
BEGIN:VEVENT
DTSTART:20200911T120000Z
DTEND:20200911T130000Z
X-MICROSOFT-CDO-ALLDAYEVENT:FALSE
SUMMARY:First Friday Coffee
DESCRIPTION:Join us via Zoom for our First Friday Coffee.
X-ALT-DESC;FMTTYPE=text/html:<span style="font-size:14px\;">Join us via Zoom for our First Friday Coffee.&nbsp\;</span>
LOCATION:
UID:e.3542.15
SEQUENCE:3
DTSTAMP:20260423T171001Z
URL:http://members.vandaliabutlerchamber.org/events/details/first-friday-coffee-09-04-2020-15
END:VEVENT

END:VCALENDAR
