BEGIN:VCALENDAR
VERSION:2.0
PRODID:-//ChamberMaster//Event Calendar 2.0//EN
METHOD:PUBLISH
X-PUBLISHED-TTL:P3D
REFRESH-INTERVAL:P3D
CALSCALE:GREGORIAN
BEGIN:VEVENT
DTSTART:20201204T130000Z
DTEND:20201204T140000Z
X-MICROSOFT-CDO-ALLDAYEVENT:FALSE
SUMMARY:First Friday Coffee
DESCRIPTION:CANCELED | Due to the increasing number of positive COVID cases in Montgomery County\, we are canceling our December First Friday Coffee.
X-ALT-DESC;FMTTYPE=text/html:<span style="color:#FF0000\;"><strong><u><span style="font-family:times new roman\;"><span style="font-size:22px\;">CANCELED</span></span></u></strong><span style="font-family:times new roman\;"><span style="font-size:22px\;">&nbsp\;| </span><span style="font-size: 18px\;">Due to the increasing number of positive COVID cases in Montgomery County\, we are canceling our December First Friday Coffee.</span></span></span>
LOCATION:
UID:e.3542.18
SEQUENCE:3
DTSTAMP:20260423T123518Z
URL:http://members.vandaliabutlerchamber.org/events/details/first-friday-coffee-12-04-2020-18
END:VEVENT

END:VCALENDAR
