BEGIN:VCALENDAR
VERSION:2.0
PRODID:-//ChamberMaster//Event Calendar 2.0//EN
METHOD:PUBLISH
X-PUBLISHED-TTL:P3D
REFRESH-INTERVAL:P3D
CALSCALE:GREGORIAN
BEGIN:VEVENT
DTSTART:20220824T120000Z
DTEND:20220824T160000Z
X-MICROSOFT-CDO-ALLDAYEVENT:FALSE
SUMMARY:Government Update
DESCRIPTION:Join the Northern Chamber Coalition for "A Government Update"\n\n	 Featuring\n	\n		 Frank LaRose Secretary of State's Office - Kenny Henning\n		State Representative Rodney Creech\n		State representative Phil Plummer\n		Montgomery County Commissioner Carolyn Rice\n		Montgomery County Auditor Karl Keith\n		Montgomery County Treasurer John McManus
X-ALT-DESC;FMTTYPE=text/html:<span style="font-size:14px\;"><strong>Join the Northern Chamber Coalition for &quot\;A Government Update&quot\;</strong></span>\n<ul>\n	<li><span style="font-size:14px\;"><strong>&#8203\;Featuring</strong></span>\n	<ul>\n		<li><span style="font-size:12px\;"><strong>&#8203\;Frank LaRose Secretary of State&#39\;s Office - Kenny&nbsp\;Henning</strong></span></li>\n		<li><span style="font-size:12px\;"><strong>State Representative Rodney Creech</strong></span></li>\n		<li><span style="font-size:12px\;"><strong>State representative Phil Plummer</strong></span></li>\n		<li><span style="font-size:12px\;"><strong>Montgomery County Commissioner Carolyn Rice</strong></span></li>\n		<li><span style="font-size:12px\;"><strong>Montgomery County Auditor Karl Keith</strong></span></li>\n		<li><span style="font-size:12px\;"><strong>Montgomery County Treasurer John McManus</strong></span></li>\n	</ul>\n	</li>\n</ul>\n
LOCATION:Meadowbrook at Clayton 6001 Salem Ave\, Clayton OH 45315
UID:e.3542.588
SEQUENCE:3
DTSTAMP:20260420T074437Z
URL:http://members.vandaliabutlerchamber.org/events/details/government-update-588
END:VEVENT

END:VCALENDAR
