BEGIN:VCALENDAR
VERSION:2.0
PRODID:-//ChamberMaster//Event Calendar 2.0//EN
METHOD:PUBLISH
X-PUBLISHED-TTL:P3D
REFRESH-INTERVAL:P3D
CALSCALE:GREGORIAN
BEGIN:VEVENT
DTSTART;VALUE=DATE:20201031
DTEND;VALUE=DATE:20201101
TRANSP:TRANSPARENT
X-MICROSOFT-CDO-ALLDAYEVENT:TRUE
SUMMARY:Happy Halloween
DESCRIPTION:Beggars Night in Vandalia and Butler Township runs from 6:00pm - 8:00pm\n\n\n\nHave FUN  -  Be Safe !!!
X-ALT-DESC;FMTTYPE=text/html:<strong><span style="font-size:18px\;">Beggars Night in Vandalia and Butler Township runs from 6:00pm - 8:00pm<br />\n<br />\nHave FUN&nbsp\; -&nbsp\; Be Safe !!!</span></strong>
LOCATION:
UID:e.3542.215
SEQUENCE:3
DTSTAMP:20260423T154340Z
URL:http://members.vandaliabutlerchamber.org/events/details/happy-halloween-215
END:VEVENT

END:VCALENDAR
