BEGIN:VCALENDAR
VERSION:2.0
PRODID:-//ChamberMaster//Event Calendar 2.0//EN
METHOD:PUBLISH
X-PUBLISHED-TTL:P3D
REFRESH-INTERVAL:P3D
CALSCALE:GREGORIAN
BEGIN:VEVENT
DTSTART:20210928T210000Z
DTEND:20210929T010000Z
X-MICROSOFT-CDO-ALLDAYEVENT:FALSE
SUMMARY:Honor Awards Banquet
DESCRIPTION:Celebrating Excellence in Business and Community\, the September 28\, 2021 Honor Awards Banquet recognizes an Emerging Professional\, Non-Profit Organization\, Ambassador\, Business\, Professional and Small Business that has elevated their industry and the Vandalia Butler business community.  The evening is highlighted with the presentation of the Marvin Link Distinguished Service Award (from the year 2020)\, recognizing an individual who has devoted excellence in civic volunteerism.
X-ALT-DESC;FMTTYPE=text/html:<span style="font-size:18px\;"><span style="color:#B22222\;">Celebrating Excellence in Business and Community\, the September 28\, 2021 <u><strong>Honor Awards Banquet</strong></u>&nbsp\;recognizes an Emerging Professional\, Non-Profit Organization\, Ambassador\, Business\, Professional and Small Business that has elevated their industry and the Vandalia Butler business community.&nbsp\; The evening is highlighted with the presentation of the Marvin Link Distinguished Service Award (from the year 2020)\, recognizing an individual who has devoted excellence in civic volunteerism.</span></span>
LOCATION:Banquet Center at Scene 75 Entertainment 6196 Poe Avenue Dayton\, OH 45414
UID:e.3542.261
SEQUENCE:3
DTSTAMP:20260420T215022Z
URL:http://members.vandaliabutlerchamber.org/events/details/honor-awards-banquet-261
END:VEVENT

END:VCALENDAR
