BEGIN:VCALENDAR
VERSION:2.0
PRODID:-//ChamberMaster//Event Calendar 2.0//EN
METHOD:PUBLISH
X-PUBLISHED-TTL:P3D
REFRESH-INTERVAL:P3D
CALSCALE:GREGORIAN
BEGIN:VEVENT
DTSTART:20200122T133000Z
DTEND:20200122T140000Z
X-MICROSOFT-CDO-ALLDAYEVENT:FALSE
SUMMARY:HR Round table
DESCRIPTION:HR Roundtable
X-ALT-DESC;FMTTYPE=text/html:HR Roundtable&nbsp\;
LOCATION:Vandalia Justice Center 245 James Bohanan Dr. #2 Vandalia\, OH 45377
UID:e.3542.176
SEQUENCE:3
DTSTAMP:20260424T055153Z
URL:http://members.vandaliabutlerchamber.org/events/details/hr-round-table-176
END:VEVENT

END:VCALENDAR
