BEGIN:VCALENDAR
VERSION:2.0
PRODID:-//ChamberMaster//Event Calendar 2.0//EN
METHOD:PUBLISH
X-PUBLISHED-TTL:P3D
REFRESH-INTERVAL:P3D
CALSCALE:GREGORIAN
BEGIN:VEVENT
DTSTART:20200722T123000Z
DTEND:20200722T130000Z
X-MICROSOFT-CDO-ALLDAYEVENT:FALSE
SUMMARY:HR Round table
DESCRIPTION:
X-ALT-DESC;FMTTYPE=text/html:
LOCATION:Vandalia Justice Center - Community Room 245 James Bohanan Drive Vandalia\, OH 45377
UID:e.3542.199
SEQUENCE:3
DTSTAMP:20260423T235845Z
URL:http://members.vandaliabutlerchamber.org/events/details/hr-round-table-199
END:VEVENT

END:VCALENDAR
