BEGIN:VCALENDAR
VERSION:2.0
PRODID:-//ChamberMaster//Event Calendar 2.0//EN
METHOD:PUBLISH
X-PUBLISHED-TTL:P3D
REFRESH-INTERVAL:P3D
CALSCALE:GREGORIAN
BEGIN:VEVENT
DTSTART:20200123T190000Z
DTEND:20200123T200000Z
X-MICROSOFT-CDO-ALLDAYEVENT:FALSE
SUMMARY:IHOP Ribbon Cutting
DESCRIPTION:Come out and support your new local business in the Vandalia Butler Community!
X-ALT-DESC;FMTTYPE=text/html:Come out and support your new local business in the Vandalia Butler Community!
LOCATION:6930 Miller Lane Dayton\, OH 45414
UID:e.3542.226
SEQUENCE:3
DTSTAMP:20260424T060349Z
URL:http://members.vandaliabutlerchamber.org/events/details/ihop-ribbon-cutting-226
END:VEVENT

END:VCALENDAR
