BEGIN:VCALENDAR
VERSION:2.0
PRODID:-//ChamberMaster//Event Calendar 2.0//EN
METHOD:PUBLISH
X-PUBLISHED-TTL:P3D
REFRESH-INTERVAL:P3D
CALSCALE:GREGORIAN
BEGIN:VEVENT
DTSTART;VALUE=DATE:20200704
DTEND;VALUE=DATE:20200705
TRANSP:TRANSPARENT
X-MICROSOFT-CDO-ALLDAYEVENT:TRUE
SUMMARY:Independence Day
DESCRIPTION:Thank you to all who have served for our country
X-ALT-DESC;FMTTYPE=text/html:Thank you to all who have served for our country
LOCATION:
UID:e.3542.200
SEQUENCE:3
DTSTAMP:20260423T195005Z
URL:http://members.vandaliabutlerchamber.org/events/details/independence-day-200
END:VEVENT

END:VCALENDAR
