BEGIN:VCALENDAR
VERSION:2.0
PRODID:-//ChamberMaster//Event Calendar 2.0//EN
METHOD:PUBLISH
X-PUBLISHED-TTL:P3D
REFRESH-INTERVAL:P3D
CALSCALE:GREGORIAN
BEGIN:VEVENT
DTSTART:20191205T220000Z
DTEND:20191206T010000Z
X-MICROSOFT-CDO-ALLDAYEVENT:FALSE
SUMMARY:Jingle Mingle
DESCRIPTION:Vandalia Butler Chamber of Commerce\, Holiday Social!\n\n\n\nTICKETS ARE SOLD OUT!
X-ALT-DESC;FMTTYPE=text/html:Vandalia Butler Chamber of Commerce\, Holiday Social!<br />\n<br />\n<span style="color:#FF0000\;"><strong>TICKETS ARE SOLD OUT!</strong></span>
LOCATION:Celebrations II
UID:e.3542.147
SEQUENCE:3
DTSTAMP:20260424T055947Z
URL:http://members.vandaliabutlerchamber.org/events/details/jingle-mingle-147
END:VEVENT

END:VCALENDAR
