BEGIN:VCALENDAR
VERSION:2.0
PRODID:-//ChamberMaster//Event Calendar 2.0//EN
METHOD:PUBLISH
X-PUBLISHED-TTL:P3D
REFRESH-INTERVAL:P3D
CALSCALE:GREGORIAN
BEGIN:VEVENT
DTSTART:20220430T150000Z
DTEND:20220430T180000Z
X-MICROSOFT-CDO-ALLDAYEVENT:FALSE
SUMMARY:Make a Wish / Ghostbusters Day
DESCRIPTION:Metronet\, The Real Ghostbusters of Ohio and Cincinnati Stay Puft are partnering together to raise money for Make a Wish. This family friendly day will be full of raffles\, games\, food trucks\, photo opportunities with a real Stay Puft Marshmallow Man and Real Ghostbusters. Tacos\, Tuesdays and Churros Food Truck Cloudy Days Speciality Cotton Candy- Food Truck Raffle prizes include gift cards\, concert tickets to the Rose Music Center\, Ghostbuster logo'd items\, novelty toys\, and so much more! Family friendly event you won't want to miss!
X-ALT-DESC;FMTTYPE=text/html:Metronet\, The Real Ghostbusters of Ohio and Cincinnati Stay Puft are partnering together to raise money for Make a Wish. This family friendly day will be full of raffles\, games\, food trucks\, photo opportunities with a real Stay Puft Marshmallow Man and Real Ghostbusters. Tacos\, Tuesdays and Churros Food Truck Cloudy Days Speciality Cotton Candy- Food Truck Raffle prizes include gift cards\, concert tickets to the Rose Music Center\, Ghostbuster logo&#39\;d items\, novelty toys\, and so much more! Family friendly event you won&#39\;t want to miss!
LOCATION:336 East National Road
UID:e.3542.575
SEQUENCE:3
DTSTAMP:20260420T114754Z
URL:http://members.vandaliabutlerchamber.org/events/details/make-a-wish-ghostbusters-day-575
END:VEVENT

END:VCALENDAR
