BEGIN:VCALENDAR
VERSION:2.0
PRODID:-//ChamberMaster//Event Calendar 2.0//EN
METHOD:PUBLISH
X-PUBLISHED-TTL:P3D
REFRESH-INTERVAL:P3D
CALSCALE:GREGORIAN
BEGIN:VEVENT
DTSTART:20220608T153000Z
DTEND:20220608T170000Z
X-MICROSOFT-CDO-ALLDAYEVENT:FALSE
SUMMARY:Doing Business ~ SMART: Lunch and Learn
DESCRIPTION:Throughout 2022 our Member Benefit partners - in cooperation with SOCA (Southern Ohio Chamber Alliance) - will provide a deep\, in the weeds\, review of business programs that have been built for one purpose... to help you SAVE on the cost of doing business! \n\n\n\nIn June it's all about energy. The grid\, how energy is produced\, how you can secure low rates AND reduce your carbon footprint\; allowing you and your business to go GREEN. Join Rick Davidson and the staff from Community Energy Advisors for this all important education session.
X-ALT-DESC;FMTTYPE=text/html:<span style="font-size:14px\;">Throughout 2022 our Member Benefit partners - <em>in cooperation with <strong>SOCA</strong> (Southern Ohio Chamber Alliance)</em> - will provide a deep\, in the weeds\, review of business programs that have been built for one purpose... to help you SAVE on the cost of doing business!&nbsp\;<br />\n<br />\n<span style="font-size:16px\;">In June it&#39\;s all about energy. The grid\, how energy is produced\, how you can secure low rates AND reduce your carbon footprint\; allowing you and your business to <span style="font-size:18px\;"><span style="color:#008000\;"><strong>go GREEN</strong></span></span>. Join Rick Davidson and the staff from Community Energy Advisors for this all important education session.</span></span>
LOCATION:Cassel Hills Golf Course Banquet Center 201 Clubhouse Way Vandalia\, OH 45377
UID:e.3542.567
SEQUENCE:3
DTSTAMP:20260420T091642Z
URL:http://members.vandaliabutlerchamber.org/events/details/member-lunch-and-learn-06-08-2022-567
END:VEVENT

END:VCALENDAR
