BEGIN:VCALENDAR
VERSION:2.0
PRODID:-//ChamberMaster//Event Calendar 2.0//EN
METHOD:PUBLISH
X-PUBLISHED-TTL:P3D
REFRESH-INTERVAL:P3D
CALSCALE:GREGORIAN
BEGIN:VEVENT
DTSTART:20220331T220000Z
DTEND:20220401T010000Z
X-MICROSOFT-CDO-ALLDAYEVENT:FALSE
SUMMARY:Non Profit Night
DESCRIPTION:MetroNet\, Hairless Hare Brewery\, and My Change Purses are partnering to collect purses\, feminine products\, and donations benefiting women who have been through domestic violence situations are are getting back on their feet. We are collecting non designer\, gently used purses\, that are large enough to fit a gallon sized ziploc bag. The event to attend is free\, there will be a MetroNet representative and a My Change Purses Representative available for any questions.
X-ALT-DESC;FMTTYPE=text/html:MetroNet\, Hairless Hare Brewery\, and My Change Purses are partnering to collect purses\, feminine products\, and donations benefiting women who have been through domestic violence situations are are getting back on their feet. We are collecting non designer\, gently used purses\, that are large enough to fit a gallon sized ziploc bag. The event to attend is free\, there will be a MetroNet representative and a My Change Purses Representative available for any questions.
LOCATION:Hairless Hare Brewery 738 W National Road Vandalia OH 45377
UID:e.3542.573
SEQUENCE:3
DTSTAMP:20260420T133104Z
URL:http://members.vandaliabutlerchamber.org/events/details/non-profit-night-573
END:VEVENT

END:VCALENDAR
