BEGIN:VCALENDAR
VERSION:2.0
PRODID:-//ChamberMaster//Event Calendar 2.0//EN
METHOD:PUBLISH
X-PUBLISHED-TTL:P3D
REFRESH-INTERVAL:P3D
CALSCALE:GREGORIAN
BEGIN:VEVENT
DTSTART:20191114T180000Z
DTEND:20191114T190000Z
X-MICROSOFT-CDO-ALLDAYEVENT:FALSE
SUMMARY:Premiere Health Family Care of Vandalia - Ribbon Cutting
DESCRIPTION:Please Join Premier Physician Network For\n\nA Special Ribbon Cutting and VIP Preview Reception\n\nCome See Our New Location\, New Home To: \n\nPREMIER HEALTH FAMILY CARE OF VANDALIA\n\nPREMIER CARDIOVASCULAR INSTITUTE\n\nPREMIER ORTHOPEDICS\n\nPREMIER HEALTH RHEUMATOLOGY\n\nCOMPUNET CLINICAL LABORATORIES\n\n \n\n   Thursday\, November 14\, 2019\n\n1 p.m.\n\n-Brief Program\n\n-Ribbon Cutting Photos\n\n-Refreshments and Tours\n\nCommunity Open House to take place from 4 to 7 p.m
X-ALT-DESC;FMTTYPE=text/html:<p align="center" style="margin:0in\;margin-bottom:.0001pt\;text-align:center"><span style="color:black\;"><span style="font-family:georgia\,serif\;"><span style="font-size:16.0pt\;">Please Join Premier Physician Network For<br />\nA Special Ribbon Cutting </span></span></span><span style="font-family:georgia\,serif\;"><span style="font-size:16.0pt\;">a<span style="color:black\;">nd VIP Preview Reception</span></span></span><br />\n<strong><span style="color:black\;"><span style="font-family:georgia\,serif\;">Come See Our New Location\, New Home To: </span></span></strong><br />\n<strong><span style="color:#174E86\;">PREMIER HEALTH FAMILY CARE OF VANDALIA</span></strong><br />\n<strong><span style="color:#174E86\;">PREMIER CARDIOVASCULAR INSTITUTE</span></strong><br />\n<strong><span style="color:#174E86\;">PREMIER ORTHOPEDICS</span></strong><br />\n<strong><span style="color:#174E86\;">PREMIER HEALTH RHEUMATOLOGY</span></strong><br />\n<strong><span style="color:#2F5597\;">COMPUNET CLINICAL LABORATORIES</span></strong><br />\n&nbsp\;<br />\n&nbsp\; <span style="color:black\;"><span style="font-size:14.0pt\;">&nbsp\;<strong>Thursday\, November 14\, 2019</strong></span></span><br />\n<strong><span dir="LTR"><span style="color:black\;"><span style="font-size:14.0pt\;">1 p.m</span></span></span></strong><strong><span dir="LTR"><span style="font-size:14.0pt\;">.</span></span></strong><br />\n<span style="color:black\;">-Brief Program</span><br />\n<span style="color:black\;">-Ribbon Cutting Photos</span><br />\n<span style="color:black\;">-Refreshments and Tours</span><br />\n<strong><span style="color:#174E86\;"><span style="font-family:calibri\,sans-serif\;"><span style="font-size:11.0pt\;">Community Open House to take place from 4 to 7 p.m</span></span></span></strong><span style="color:#333333">&nbsp\;</span><span style="color:black"><o:p></o:p></span></p>\n
LOCATION:Premier Health 600 Aviator Ct. Vandalia\, OH 45377
UID:e.3542.144
SEQUENCE:3
DTSTAMP:20260424T071426Z
URL:http://members.vandaliabutlerchamber.org/events/details/premiere-health-family-care-of-vandalia-ribbon-cutting-144
END:VEVENT

END:VCALENDAR
