BEGIN:VCALENDAR
VERSION:2.0
PRODID:-//ChamberMaster//Event Calendar 2.0//EN
METHOD:PUBLISH
X-PUBLISHED-TTL:P3D
REFRESH-INTERVAL:P3D
CALSCALE:GREGORIAN
BEGIN:VEVENT
DTSTART:20260514T200000Z
DTEND:20260514T220000Z
X-MICROSOFT-CDO-ALLDAYEVENT:FALSE
SUMMARY:Ribbon Cutting - Grand Opening
DESCRIPTION:Grand Opening for Abbey Investment Services LLC.  & Capstone Property Solutions\n\n\n\nFood & Drinks from City BBQ
X-ALT-DESC;FMTTYPE=text/html:Grand Opening for Abbey Investment Services LLC.&nbsp\; &amp\; Capstone Property Solutions<br />\n<br />\nFood &amp\; Drinks from City BBQ&nbsp\;
LOCATION:8535 A. North Dixie Dr. Dayton\, OH 45415
UID:e.3542.1584
SEQUENCE:3
DTSTAMP:20260424T085338Z
URL:http://members.vandaliabutlerchamber.org/events/details/ribbon-cutting-grand-opening-1584
END:VEVENT

END:VCALENDAR
