BEGIN:VCALENDAR
VERSION:2.0
PRODID:-//ChamberMaster//Event Calendar 2.0//EN
METHOD:PUBLISH
X-PUBLISHED-TTL:P3D
REFRESH-INTERVAL:P3D
CALSCALE:GREGORIAN
BEGIN:VEVENT
DTSTART:20221103T201500Z
DTEND:20221103T223000Z
X-MICROSOFT-CDO-ALLDAYEVENT:FALSE
SUMMARY:Ribbon Cutting - Hampton Inn & Suites
DESCRIPTION:Ribbon Cutting for the the newly remodeled \n\nHampton Inn & Suites
X-ALT-DESC;FMTTYPE=text/html:Ribbon Cutting for the the newly remodeled&nbsp\;<br />\n<span style="font-size:14px\;"><strong><span style="color:#000000\;">Hampton Inn &amp\; Suites</span></strong></span>
LOCATION:Hampton Inn & Suites 7043 Miller Lane Dayton\, OH 45414
UID:e.3542.592
SEQUENCE:3
DTSTAMP:20260420T021624Z
URL:http://members.vandaliabutlerchamber.org/events/details/ribbon-cutting-hampton-inn-suites-592
END:VEVENT

END:VCALENDAR
