BEGIN:VCALENDAR
VERSION:2.0
PRODID:-//ChamberMaster//Event Calendar 2.0//EN
METHOD:PUBLISH
X-PUBLISHED-TTL:P3D
REFRESH-INTERVAL:P3D
CALSCALE:GREGORIAN
BEGIN:VEVENT
DTSTART:20201009T121500Z
DTEND:20201009T140000Z
X-MICROSOFT-CDO-ALLDAYEVENT:FALSE
SUMMARY:Safety Council Meeting - Currently Postponed Due to COVID restrictions
DESCRIPTION:
X-ALT-DESC;FMTTYPE=text/html:<p style="box-sizing: inherit\; margin-top: 0px\; margin-bottom: 1rem\; font-family: proxima-nova\, helvetica\, Arial\, sans-serif\; font-size: 15px\;">&nbsp\;</p>\n\n<p style="box-sizing: inherit\; margin-top: 0px\; margin-bottom: 1rem\; font-family: proxima-nova\, helvetica\, Arial\, sans-serif\; font-size: 15px\;">&nbsp\;</p>\n
LOCATION:
UID:e.3542.186
SEQUENCE:3
DTSTAMP:20260423T154712Z
URL:http://members.vandaliabutlerchamber.org/events/details/safety-council-meeting-currently-postponed-due-to-covid-restrictions-186
END:VEVENT

END:VCALENDAR
