BEGIN:VCALENDAR
VERSION:2.0
PRODID:-//ChamberMaster//Event Calendar 2.0//EN
METHOD:PUBLISH
X-PUBLISHED-TTL:P3D
REFRESH-INTERVAL:P3D
CALSCALE:GREGORIAN
BEGIN:VEVENT
DTSTART:20200514T121500Z
DTEND:20200514T140000Z
X-MICROSOFT-CDO-ALLDAYEVENT:FALSE
SUMMARY:Safety Council Meeting/ Postponed until further notice
DESCRIPTION:Our speaker will be Chief Chris Barnett\, West Carrollton Fire Dept. The topic will be "Hands on Fire Extinguisher Protocol". Meetings are held in the Miami Valley Hospital South\, Bed Tower Conference Room. (Follow signs to maternity parking in the back of the hospital and enter the Patient Tower entrance.)\n\nRegistration\, networking and light breakfast 8:15 A.M. Program begins promptly at 8:30 A.M.\n\nSafety Council Member $15.00 Non-member $20.00 Please RSVP no later than 2 days prior to the event at safetycouncil@smrcoc.org or (937) 433-2032 ext. 200
X-ALT-DESC;FMTTYPE=text/html:<p style="box-sizing: inherit\; margin-top: 0px\; margin-bottom: 1rem\; font-family: proxima-nova\, helvetica\, Arial\, sans-serif\; font-size: 15px\;">&nbsp\;</p>\n\n<p style="box-sizing: inherit\; margin-top: 0px\; margin-bottom: 1rem\; font-family: proxima-nova\, helvetica\, Arial\, sans-serif\; font-size: 15px\;">Our speaker will be Chief Chris Barnett\, West Carrollton Fire Dept. The topic will be &ldquo\;Hands on Fire Extinguisher Protocol&rdquo\;. Meetings are held in the Miami Valley Hospital South\, Bed Tower Conference Room. (Follow signs to maternity parking in the back of the hospital and enter the Patient Tower entrance.)</p>\n\n<p style="box-sizing: inherit\; margin-top: 0px\; margin-bottom: 1rem\; font-family: proxima-nova\, helvetica\, Arial\, sans-serif\; font-size: 15px\;">Registration\, networking and light breakfast 8:15 A.M. Program begins promptly at 8:30 A.M.</p>\n\n<p style="box-sizing: inherit\; margin-top: 0px\; margin-bottom: 1rem\; font-family: proxima-nova\, helvetica\, Arial\, sans-serif\; font-size: 15px\;">Safety Council Member $15.00 Non-member $20.00 Please RSVP no later than 2 days prior to the event at&nbsp\;<a href="mailto:safetycouncil@smrcoc.org" style="box-sizing: inherit\; background-color: transparent\; color: rgb(2\, 117\, 216)\; text-decoration-line: none\; touch-action: manipulation\;">safetycouncil@smrcoc.org</a>&nbsp\;or (937) 433-2032 ext. 200</p>\n\n<p style="box-sizing: inherit\; margin-top: 0px\; margin-bottom: 1rem\; font-family: proxima-nova\, helvetica\, Arial\, sans-serif\; font-size: 15px\;">&nbsp\;</p>\n
LOCATION:Miami Valley Hospital South 2400 Miami Valley Dr. Centerville\, OH 45459
UID:e.3542.181
SEQUENCE:3
DTSTAMP:20260423T224751Z
URL:http://members.vandaliabutlerchamber.org/events/details/safety-council-meeting-postponed-until-further-notice-05-14-2020-181
END:VEVENT

END:VCALENDAR
